BEGIN:VCALENDAR
VERSION:2.0
PRODID:-//San Lorenzo Valley Post - ECPv6.15.20//NONSGML v1.0//EN
CALSCALE:GREGORIAN
METHOD:PUBLISH
X-WR-CALNAME:San Lorenzo Valley Post
X-ORIGINAL-URL:https://slvpost.com
X-WR-CALDESC:Events for San Lorenzo Valley Post
REFRESH-INTERVAL;VALUE=DURATION:PT1H
X-Robots-Tag:noindex
X-PUBLISHED-TTL:PT1H
BEGIN:VTIMEZONE
TZID:America/Los_Angeles
BEGIN:DAYLIGHT
TZOFFSETFROM:-0800
TZOFFSETTO:-0700
TZNAME:PDT
DTSTART:20230312T100000
END:DAYLIGHT
BEGIN:STANDARD
TZOFFSETFROM:-0700
TZOFFSETTO:-0800
TZNAME:PST
DTSTART:20231105T090000
END:STANDARD
BEGIN:DAYLIGHT
TZOFFSETFROM:-0800
TZOFFSETTO:-0700
TZNAME:PDT
DTSTART:20240310T100000
END:DAYLIGHT
BEGIN:STANDARD
TZOFFSETFROM:-0700
TZOFFSETTO:-0800
TZNAME:PST
DTSTART:20241103T090000
END:STANDARD
BEGIN:DAYLIGHT
TZOFFSETFROM:-0800
TZOFFSETTO:-0700
TZNAME:PDT
DTSTART:20250309T100000
END:DAYLIGHT
BEGIN:STANDARD
TZOFFSETFROM:-0700
TZOFFSETTO:-0800
TZNAME:PST
DTSTART:20251102T090000
END:STANDARD
END:VTIMEZONE
BEGIN:VEVENT
DTSTART;TZID=America/Los_Angeles:20240320T173000
DTEND;TZID=America/Los_Angeles:20240320T203000
DTSTAMP:20260422T080859
CREATED:20240312T212623Z
LAST-MODIFIED:20240312T212623Z
UID:10688-1710955800-1710966600@slvpost.com
SUMMARY:Ukulele Club of Santa Cruz Meeting and Jam
DESCRIPTION:Join ukulele players from all over Santa Cruz at this regular meeting of musicians at the VFW Hall in Santa Cruz. 80s and 90s theme. \nInfo: (650) 279-1715
URL:https://slvpost.com/event/ukulele-club-of-santa-cruz-meeting-and-jam/
LOCATION:VFW Post 7263\, 2259 7th Ave\, Santa Cruz\, CA\, 95062
CATEGORIES:Entertainment,Events
ATTACH;FMTTYPE=image/jpeg:https://slvpost.com/wp-content/uploads/2024/03/uke-low-res.jpg
END:VEVENT
END:VCALENDAR