BEGIN:VCALENDAR
VERSION:2.0
PRODID:-//San Lorenzo Valley Post - ECPv6.15.20//NONSGML v1.0//EN
CALSCALE:GREGORIAN
METHOD:PUBLISH
X-WR-CALNAME:San Lorenzo Valley Post
X-ORIGINAL-URL:https://slvpost.com
X-WR-CALDESC:Events for San Lorenzo Valley Post
REFRESH-INTERVAL;VALUE=DURATION:PT1H
X-Robots-Tag:noindex
X-PUBLISHED-TTL:PT1H
BEGIN:VTIMEZONE
TZID:America/Los_Angeles
BEGIN:DAYLIGHT
TZOFFSETFROM:-0800
TZOFFSETTO:-0700
TZNAME:PDT
DTSTART:20230312T100000
END:DAYLIGHT
BEGIN:STANDARD
TZOFFSETFROM:-0700
TZOFFSETTO:-0800
TZNAME:PST
DTSTART:20231105T090000
END:STANDARD
BEGIN:DAYLIGHT
TZOFFSETFROM:-0800
TZOFFSETTO:-0700
TZNAME:PDT
DTSTART:20240310T100000
END:DAYLIGHT
BEGIN:STANDARD
TZOFFSETFROM:-0700
TZOFFSETTO:-0800
TZNAME:PST
DTSTART:20241103T090000
END:STANDARD
BEGIN:DAYLIGHT
TZOFFSETFROM:-0800
TZOFFSETTO:-0700
TZNAME:PDT
DTSTART:20250309T100000
END:DAYLIGHT
BEGIN:STANDARD
TZOFFSETFROM:-0700
TZOFFSETTO:-0800
TZNAME:PST
DTSTART:20251102T090000
END:STANDARD
END:VTIMEZONE
BEGIN:VEVENT
DTSTART;TZID=America/Los_Angeles:20240201T190000
DTEND;TZID=America/Los_Angeles:20240201T220000
DTSTAMP:20260422T094134
CREATED:20240201T094038Z
LAST-MODIFIED:20240201T094038Z
UID:10295-1706814000-1706824800@slvpost.com
SUMMARY:Santa Cruz Traditional Irish Session
DESCRIPTION:New in 2024! By popular demand\, the Santa Cruz Traditional Irish Seisiun is adding another night! In addition to our long-standing Third Thursday session tradition at Rosie McCann’s in downtown Santa Cruz\, we are now hosting sessions on First Thursdays from 7:00 to 10:00 pm.\n\nSuitable for the experienced Celtic style musician and for anyone who enjoys listening to acoustic folk music played in the spirit of the Irish tradition. All ages\, full bar and dinner menu!\nHosted by Julie Horner and David Chadwick\, supported by Irish Culture Bay Area and the Celtic Society of the Monterey Bay.\n\ncelticsociety.org\nirishculturebayarea.com\n\nRosie McCann’s\, 1220 Pacific Ave\, Santa Cruz\, CA 95060
URL:https://slvpost.com/event/santa-cruz-traditional-irish-session-2/
LOCATION:Rosie McCann’s Restauran and Pub\, 1220 Pacific Ave\, Santa Cruz\, CA\, 95060
CATEGORIES:Events,Music & Concerts
ATTACH;FMTTYPE=image/jpeg:https://slvpost.com/wp-content/uploads/2024/01/20231019_195929-1-scaled.jpg
ORGANIZER;CN="Celtic Society of the Monterey Bay":MAILTO:GRosson250@aol.com
END:VEVENT
END:VCALENDAR