BEGIN:VCALENDAR
VERSION:2.0
PRODID:-//San Lorenzo Valley Post - ECPv6.15.20//NONSGML v1.0//EN
CALSCALE:GREGORIAN
METHOD:PUBLISH
X-WR-CALNAME:San Lorenzo Valley Post
X-ORIGINAL-URL:https://slvpost.com
X-WR-CALDESC:Events for San Lorenzo Valley Post
REFRESH-INTERVAL;VALUE=DURATION:PT1H
X-Robots-Tag:noindex
X-PUBLISHED-TTL:PT1H
BEGIN:VTIMEZONE
TZID:America/Los_Angeles
BEGIN:DAYLIGHT
TZOFFSETFROM:-0800
TZOFFSETTO:-0700
TZNAME:PDT
DTSTART:20230312T100000
END:DAYLIGHT
BEGIN:STANDARD
TZOFFSETFROM:-0700
TZOFFSETTO:-0800
TZNAME:PST
DTSTART:20231105T090000
END:STANDARD
BEGIN:DAYLIGHT
TZOFFSETFROM:-0800
TZOFFSETTO:-0700
TZNAME:PDT
DTSTART:20240310T100000
END:DAYLIGHT
BEGIN:STANDARD
TZOFFSETFROM:-0700
TZOFFSETTO:-0800
TZNAME:PST
DTSTART:20241103T090000
END:STANDARD
BEGIN:DAYLIGHT
TZOFFSETFROM:-0800
TZOFFSETTO:-0700
TZNAME:PDT
DTSTART:20250309T100000
END:DAYLIGHT
BEGIN:STANDARD
TZOFFSETFROM:-0700
TZOFFSETTO:-0800
TZNAME:PST
DTSTART:20251102T090000
END:STANDARD
END:VTIMEZONE
BEGIN:VEVENT
DTSTART;TZID=America/Los_Angeles:20240127T180000
DTEND;TZID=America/Los_Angeles:20240127T210000
DTSTAMP:20260422T111146
CREATED:20240126T223131Z
LAST-MODIFIED:20240126T223131Z
UID:10221-1706378400-1706389200@slvpost.com
SUMMARY:Underground Nomads Belly Dance Showcase
DESCRIPTION:Underground Nomads is a showcase of unique\, far-from-mainstream performance art. Featuring world class belly dancers and captivating music\, the show happens at MJA Vineyards Westside Tasting Room on Saturday\, January 27. \nExpert dance performances from Desert Dream Dance Company\, Desert Jewels\, Troupe Malaya\, Surreyya\, Caliana\, Ayre\, Janelle\, Natasha\, Maleah and Jewel of Opar. DJ Glitter Done will be spinning otherwordly beats for you. Doors 6pm\, Show 7pm – don’t miss this spectacular affair!!!
URL:https://slvpost.com/event/underground-nomads-belly-dance-showcase/
LOCATION:MJA Vineyards Westside Tasting Room\, 328 Ingalls Street\, Santa Cruz\, CA\, 95060
CATEGORIES:Dance,Entertainment,Events
ATTACH;FMTTYPE=image/jpeg:https://slvpost.com/wp-content/uploads/2024/01/Screenshot_20240126_140515_Message.jpg
END:VEVENT
END:VCALENDAR