BEGIN:VCALENDAR
VERSION:2.0
PRODID:-//San Lorenzo Valley Post - ECPv6.15.20//NONSGML v1.0//EN
CALSCALE:GREGORIAN
METHOD:PUBLISH
X-ORIGINAL-URL:https://slvpost.com
X-WR-CALDESC:Events for San Lorenzo Valley Post
REFRESH-INTERVAL;VALUE=DURATION:PT1H
X-Robots-Tag:noindex
X-PUBLISHED-TTL:PT1H
BEGIN:VTIMEZONE
TZID:America/Los_Angeles
BEGIN:DAYLIGHT
TZOFFSETFROM:-0800
TZOFFSETTO:-0700
TZNAME:PDT
DTSTART:20230312T100000
END:DAYLIGHT
BEGIN:STANDARD
TZOFFSETFROM:-0700
TZOFFSETTO:-0800
TZNAME:PST
DTSTART:20231105T090000
END:STANDARD
BEGIN:DAYLIGHT
TZOFFSETFROM:-0800
TZOFFSETTO:-0700
TZNAME:PDT
DTSTART:20240310T100000
END:DAYLIGHT
BEGIN:STANDARD
TZOFFSETFROM:-0700
TZOFFSETTO:-0800
TZNAME:PST
DTSTART:20241103T090000
END:STANDARD
BEGIN:DAYLIGHT
TZOFFSETFROM:-0800
TZOFFSETTO:-0700
TZNAME:PDT
DTSTART:20250309T100000
END:DAYLIGHT
BEGIN:STANDARD
TZOFFSETFROM:-0700
TZOFFSETTO:-0800
TZNAME:PST
DTSTART:20251102T090000
END:STANDARD
END:VTIMEZONE
BEGIN:VEVENT
DTSTART;TZID=America/Los_Angeles:20240120T140000
DTEND;TZID=America/Los_Angeles:20240120T170000
DTSTAMP:20260422T105441
CREATED:20231220T085332Z
LAST-MODIFIED:20231220T085332Z
UID:9923-1705759200-1705770000@slvpost.com
SUMMARY:Santa Cruz Harp Festival
DESCRIPTION:Saturday\, January 20 | 2 pm – 5 pm. r\, 900 High St\, Santa Cruz.  \nFeaturing soloists on pedal harp\, Celtic harp\, and double-strung harp\, the all-ages Community Music School Harp Orchestra\, and an instrument “petting zoo” for curious concert-goers. Jesse Autumn returns to direct the Harp Orchestra and perform on Double Harp. Proceeds benefit Community Music School\, a non-profit educational organization serving Santa Cruz County. Internationally-acclaimed harpist Calvin Arsenia is special guest soloist.  \nTickets: communitymusicschool.org/harp-festival
URL:https://slvpost.com/event/santa-cruz-harp-festival/
LOCATION:Peace United Church of Christ\, 900 High Street\, Santa Cruz\, CA\, 95060
CATEGORIES:Events,Festival,Music & Concerts
ATTACH;FMTTYPE=image/jpeg:https://slvpost.com/wp-content/uploads/2023/12/Calvin.jpg
END:VEVENT
END:VCALENDAR