BEGIN:VCALENDAR
VERSION:2.0
PRODID:-//San Lorenzo Valley Post - ECPv6.15.20//NONSGML v1.0//EN
CALSCALE:GREGORIAN
METHOD:PUBLISH
X-WR-CALNAME:San Lorenzo Valley Post
X-ORIGINAL-URL:https://slvpost.com
X-WR-CALDESC:Events for San Lorenzo Valley Post
REFRESH-INTERVAL;VALUE=DURATION:PT1H
X-Robots-Tag:noindex
X-PUBLISHED-TTL:PT1H
BEGIN:VTIMEZONE
TZID:America/Los_Angeles
BEGIN:DAYLIGHT
TZOFFSETFROM:-0800
TZOFFSETTO:-0700
TZNAME:PDT
DTSTART:20220313T100000
END:DAYLIGHT
BEGIN:STANDARD
TZOFFSETFROM:-0700
TZOFFSETTO:-0800
TZNAME:PST
DTSTART:20221106T090000
END:STANDARD
BEGIN:DAYLIGHT
TZOFFSETFROM:-0800
TZOFFSETTO:-0700
TZNAME:PDT
DTSTART:20230312T100000
END:DAYLIGHT
BEGIN:STANDARD
TZOFFSETFROM:-0700
TZOFFSETTO:-0800
TZNAME:PST
DTSTART:20231105T090000
END:STANDARD
BEGIN:DAYLIGHT
TZOFFSETFROM:-0800
TZOFFSETTO:-0700
TZNAME:PDT
DTSTART:20240310T100000
END:DAYLIGHT
BEGIN:STANDARD
TZOFFSETFROM:-0700
TZOFFSETTO:-0800
TZNAME:PST
DTSTART:20241103T090000
END:STANDARD
END:VTIMEZONE
BEGIN:VEVENT
DTSTART;TZID=America/Los_Angeles:20231111T100000
DTEND;TZID=America/Los_Angeles:20231111T160000
DTSTAMP:20260422T134408
CREATED:20231109T032752Z
LAST-MODIFIED:20231109T032752Z
UID:9428-1699696800-1699718400@slvpost.com
SUMMARY:Bonny Doon Craft Fair and CZU Benefit
DESCRIPTION:The Bonny Doon Craft Fair raises funds for CZU families. Traditional Chili Cook-off\, wonderful food\, coffee\, tea & espresso drinks\, raffle prizes and wonderful vendors will be there. \nCharolette – hand knitted hats and hand sewn aprons\nBarbara Louv – hand sewn napkins\nEcheveriaSarah – Succulents\nMade by Mercis – Wallets\, backpacks\, and sling back bags.\nCarol Milch – ceramic buttons\, jewelry and ornaments\nPatty Bianco – rugs\nMelinda Ruggani – lace pillows\nBonny Doon Lavender farms\nLauren Burke – nature art\nHeather Burke – children’s books\, ornaments\, prints and cards\nSam Clarkson – Ceramics\nAlison Parham – Watercolors\nLimitless Horizons Ixil- Guatemalan handmade goods\nMarti Menacho – olive oil\, vinegars\, sea salts\, jams\, and tapenade\nLisa Pizzo – antique kimonos\nAngie Moran – jewelry\nCarla Vaughn – barn art\nKim Furnish – pine cone and natural stone jewelry\nSuzanne Morrow – Guatemalan crafts\nJoanne Sasscer – sea glass \nPlant Share – bring plants to share with your neighbors! \nWe are raising money for CZU total loss survivors again this year. Last year with the money we raised and with donations from other churches and individuals we hosted a Bonny Doon Love / Beautiful Day of paid tree work and volunteers helping to clean up 8 properties. We plan to find ways to help more people again this year. \nCome and sign up to volunteer to help a neighbor or tell us of someone in need. It’s wonderful that we have such a great community that is willing to help each other! \nbonnydoonchurch.org/fire-recovery \nThank you for your support!\nContact Denby for more info at (831) 252-0446
URL:https://slvpost.com/event/bonny-doon-craft-fair-and-czu-benefit/
LOCATION:Bonny Doon Elementary\, 1492 Pine Flat Rd\, Santa Cruz\, CA\, 95060
CATEGORIES:Events,Holiday Market
ATTACH;FMTTYPE=image/jpeg:https://slvpost.com/wp-content/uploads/2023/11/Bonny-Doon-Craft-Fair.jpg
END:VEVENT
BEGIN:VEVENT
DTSTART;TZID=America/Los_Angeles:20231111T160000
DTEND;TZID=America/Los_Angeles:20231111T230000
DTSTAMP:20260422T134408
CREATED:20231109T035612Z
LAST-MODIFIED:20231109T035612Z
UID:9443-1699718400-1699743600@slvpost.com
SUMMARY:Veterans Day - Veterans Village Benefit Concert
DESCRIPTION:Veterans Day Benefit for the Ben Lomond Veterans Village in Santa Cruz. Join us on Veterans Day 11/11/2023 at the Veterans Memorial Building for a benefit concert for the Veterans Village of Santa Cruz County. \nJoin us\, for this special benefit concert featuring James Durbin\, Bog Iron\, Rumble Steelskin\, Locomotive Breath\, and the Dylan Rose Band. We will have a raffle and fund games for the adults!\nThis event is 21+ and tickets are only minimum of a $20 donation for presale or minimum donation of $25 at the door. All proceed for this event will go to benefiting the Veterans Village of Santa Cruz County – Homeless Veterans Housing Project. \nWe are committed to envisioning a brighter future for Veterans and their families. As Veterans return from diverse eras of war and peacetime\, many face challenges integrating back into civilian life. Countless Veterans grapple with the burdens of PTSD\, social isolation\, and combat-related trauma\, navigating these obstacles alone can be overwhelming. \nThe Veterans Village is a nurturing environment where Veterans and compassionate supporters come together. As a united community\, we understand the struggles and are wholeheartedly devoted to uplifting our fellow brothers and sisters of service. We provide a dedicated space where all Veterans can find the support and community they need to flourish.
URL:https://slvpost.com/event/veterans-day-veterans-village-benefit-concert/
LOCATION:Santa Cruz Veterans Memorial Building\, 846 Front Street\, Santa Cruz\, CA\, 95060\, United States
CATEGORIES:Concert,Fundraiser,Music & Concerts
ATTACH;FMTTYPE=image/jpeg:https://slvpost.com/wp-content/uploads/2023/11/Veterans-Benefit.jpg
END:VEVENT
END:VCALENDAR