BEGIN:VCALENDAR
VERSION:2.0
PRODID:-//San Lorenzo Valley Post - ECPv6.15.20//NONSGML v1.0//EN
CALSCALE:GREGORIAN
METHOD:PUBLISH
X-WR-CALNAME:San Lorenzo Valley Post
X-ORIGINAL-URL:https://slvpost.com
X-WR-CALDESC:Events for San Lorenzo Valley Post
REFRESH-INTERVAL;VALUE=DURATION:PT1H
X-Robots-Tag:noindex
X-PUBLISHED-TTL:PT1H
BEGIN:VTIMEZONE
TZID:America/Los_Angeles
BEGIN:DAYLIGHT
TZOFFSETFROM:-0800
TZOFFSETTO:-0700
TZNAME:PDT
DTSTART:20230312T100000
END:DAYLIGHT
BEGIN:STANDARD
TZOFFSETFROM:-0700
TZOFFSETTO:-0800
TZNAME:PST
DTSTART:20231105T090000
END:STANDARD
BEGIN:DAYLIGHT
TZOFFSETFROM:-0800
TZOFFSETTO:-0700
TZNAME:PDT
DTSTART:20240310T100000
END:DAYLIGHT
BEGIN:STANDARD
TZOFFSETFROM:-0700
TZOFFSETTO:-0800
TZNAME:PST
DTSTART:20241103T090000
END:STANDARD
BEGIN:DAYLIGHT
TZOFFSETFROM:-0800
TZOFFSETTO:-0700
TZNAME:PDT
DTSTART:20250309T100000
END:DAYLIGHT
BEGIN:STANDARD
TZOFFSETFROM:-0700
TZOFFSETTO:-0800
TZNAME:PST
DTSTART:20251102T090000
END:STANDARD
END:VTIMEZONE
BEGIN:VEVENT
DTSTART;TZID=America/Los_Angeles:20240201T190000
DTEND;TZID=America/Los_Angeles:20240201T220000
DTSTAMP:20260422T080533
CREATED:20240201T094038Z
LAST-MODIFIED:20240201T094038Z
UID:10295-1706814000-1706824800@slvpost.com
SUMMARY:Santa Cruz Traditional Irish Session
DESCRIPTION:New in 2024! By popular demand\, the Santa Cruz Traditional Irish Seisiun is adding another night! In addition to our long-standing Third Thursday session tradition at Rosie McCann’s in downtown Santa Cruz\, we are now hosting sessions on First Thursdays from 7:00 to 10:00 pm.\n\nSuitable for the experienced Celtic style musician and for anyone who enjoys listening to acoustic folk music played in the spirit of the Irish tradition. All ages\, full bar and dinner menu!\nHosted by Julie Horner and David Chadwick\, supported by Irish Culture Bay Area and the Celtic Society of the Monterey Bay.\n\ncelticsociety.org\nirishculturebayarea.com\n\nRosie McCann’s\, 1220 Pacific Ave\, Santa Cruz\, CA 95060
URL:https://slvpost.com/event/santa-cruz-traditional-irish-session-2/
LOCATION:Rosie McCann’s Restauran and Pub\, 1220 Pacific Ave\, Santa Cruz\, CA\, 95060
CATEGORIES:Events,Music & Concerts
ATTACH;FMTTYPE=image/jpeg:https://slvpost.com/wp-content/uploads/2024/01/20231019_195929-1-scaled.jpg
ORGANIZER;CN="Celtic Society of the Monterey Bay":MAILTO:GRosson250@aol.com
END:VEVENT
BEGIN:VEVENT
DTSTART;VALUE=DATE:20240214
DTEND;VALUE=DATE:20240215
DTSTAMP:20260422T080533
CREATED:20240212T193518Z
LAST-MODIFIED:20240214T201520Z
UID:10453-1707868800-1707955199@slvpost.com
SUMMARY:Live Music Listing: Valentine's Day in Santa Cruz
DESCRIPTION:Celebrate Valentine’s Day with live music and good friends. Here’s a taste of local things to do in Santa Cruz and the Santa Cruz Mountains on Wednesday\, February 14\, 2024. \nAbbott Square Market\nTrianna Feruza and the Heavy Hitters\nLove on the Square\, Abbott Square Market\nWednesday\, February 14 | 6:00 – 8:00\n725 Front St.\, Santa Cruz \nBruno’s Bar and Grill\nShawn Yanez at Bruno’s Bar and Grill\nValentines Day Dinner\nWednesday\, February 14 | 5:00 – 9:00\n230 Mt Hermon Rd\, Scotts Valley\nReservations: 831-438-2227 \nThe Gravity ‘Singles Un-Valentine’s Party’ at Bruno’s Bar and Grill\nWednesday\, February 14 | 6:00 – 9:00\n230 Mt Hermon Rd\, Scotts Valley\nReservations: 831-438-2227 \nCapitola Wine Bar\nHunny Pot w/ Jim Lewin & Diana Z Songs for Lovers\nCapitola Wine Bar\nWednesday\, February 14 | 5:00 – 8:00\n115 San Jose Ave\, Capitola \nThe Catalyst Club\nThe Movement + Mihali at The Catalyst\nSinger-Songwriter Rock & Reggae\nWednesday\, February 14 | 7:00 – 10:00\n1011 Pacific Ave\, Santa Cruz \nChaminade Resort and Spa\nJenny & The Bets Romantic Jazz\nChaminade\nWednesday\, February 14 | 5:30 – 8:30\nOne Chaminade Lane\, Santa Cruz \nCork and Fork\nOpen Mic w/ John Gullic & Friends at Cork and Fork\nWednesday\, February 14 | 6:00 – 9:00\n312-B Capitola Ave\, Capitola \nThe Crepe Place\nJazz The Dog w/ Patti Maxine\, Rick Zeek\, and Rhan Wilson\nIn Love at The Crepe Place Happy Hour\nWednesday\, February 14 | 5:00 – 7:00\n1134 Soquel Ave\, Santa Cruz \nThe Crow’s Nest\nMatt Masih & The Messengers\nFunk\, soul\, and groove at The Crow’s Nest\nWednesday\, February 14 | 7:00\n2218 East Cliff Drive\, Santa Cruz \nFelton Music Hall\nThe Brother Brothers + Lucas Lawson at Felton Music Hall\nAmericana / Singer-Songwriter Seated Show\nWednesday\, February 14 | 8:00\n6275 Highway 9\, Felton \nGayle’s Bakery & Rotisserie\nJADe Galentine’s Day at Gayle’s\nWednesday\, February 14 | 5:15\n504 Bay Ave.\, Capitola \nJoe’s Bar\nNoach Tangeras at Joe’s Bar\nLove in the Mountains\nWednesday\, February 14 | 8:00 – 11:00 \nOver the Hill Gang Saloon\nJohn Michael Love Songs at Over the Hill Gang Saloon\nWednesday\, February 14 | 7:00 – 10:00\n3530 Portola Dr.\, Santa Cruz \nPono Hawaiian Grill\nKaraoke Valentine’s Sing-Along w/ Ed Greene at Pono Hawaiian Grill\nWednesday\, February 14 | 6:00 – 8:00\n120 Union St.\, Santa Cruz \nSeascape Beach Resort\nBilly Reese at Seascape Beach Resort/Sanderlings\nWednesday\, February 14 | 5:30 – 7:30\nOne Seascape Resort Drive\, Aptos \nSteel Bonnet Brewing\nLover’s Showcase w/ Alex Lucero & Justina + Ripatti & Rose + Dan & Laurel\nSteel Bonnet Brewing\nWednesday\, February 14 | 5:30 – 7:30\n20 Victor Square\, Scotts Valley \nVino by the Sea\nThe Owls w/ Harpin Jonny\, Bob O’Neill\, & Joe Vallaire\nLover’s Blues at Vino by the Sea\nWednesday\, February 14 | 6:30 – 9:30\n55 Municipal Wharf\, Ste. B\, Santa Cruz \n*** \nFeatured photo at Natural Bridges\, Santa Cruz by Julie Horner. \nJulie Horner writes about art\, music\, and the local business scene in the Santa Cruz Mountains.\nEmail: julie@slvpost.com \nHave a news item to contribute? The San Lorenzo Valley Post welcomes your Santa Cruz Mountains news\, story ideas\, photos\, and letters. Send us an email. \nSign up for our newsletter to stay connected to news and events in the Santa Cruz Mountains.
URL:https://slvpost.com/event/live-music-listing-valentines-day-in-santa-cruz/
LOCATION:Santa Cruz\, California\, 95060
CATEGORIES:Entertainment,Events
ATTACH;FMTTYPE=image/jpeg:https://slvpost.com/wp-content/uploads/2024/02/Ocean-cropped.jpg
ORGANIZER;CN="San Lorenzo Valley Post":MAILTO:julie@slvpost.com
END:VEVENT
BEGIN:VEVENT
DTSTART;TZID=America/Los_Angeles:20240215T093000
DTEND;TZID=America/Los_Angeles:20240215T120000
DTSTAMP:20260422T080533
CREATED:20240124T081613Z
LAST-MODIFIED:20240124T081613Z
UID:10186-1707989400-1707998400@slvpost.com
SUMMARY:Santa Cruz Economic Forum Brunch
DESCRIPTION:Join the Santa Cruz County Economic Forum on Thursday\, February 15\, 2024\, at the luxurious Hotel Paradox in Santa Cruz from 9:30 AM to 12:00 Noon PST. This event promises to be a powerhouse of insights and networking opportunities. \nSecure your spot: http://tinyurl.com/487ve2h5 \nEvent Highlights\n– Networking at 9:30\n– Sumptuous brunch at 10:00\n– Keynote speech by Dr. Jon Haveman at 10:30\n– Participate in a dynamic panel discussion on local economic impacts at 11:15\, concluding with impactful remarks at 11:45 \nMeet The Experts\n– Keynote Speaker: Jon Haveman\, PhD. A renowned economist known for his deep insights into regional economies and local economic development. \n– Terence Concannon: CEO of Visit Santa Cruz County. Tourism\, driving economic growth through strategic marketing and development. \n– Dr. Larry deGhetaldi: Former CEO of Sutter Health\, Santa Cruz. Healthcare figure known for enhancing services and infrastructure. \n– Dennis Webb: President of the Santa Cruz County Farm Bureau. Advocating for growth and sustainability in Agriculture. \n– Moderator: Marshall Delk\, VP and Senior Business Banking Officer at Santa Cruz County Bank. An expert in business banking and economic development\, focusing on workforce initiatives. \nA convergence of minds and ideas set to shape the future of Santa Cruz County’s economy\, whether you’re a business leader\, entrepreneur\, or an enthusiast of economic trends. \n 
URL:https://slvpost.com/event/santa-cruz-economic-forum-brunch/
LOCATION:Hotel Paradox\, 611 Ocean Street\, Santa Cruz\, CA\, 95030
CATEGORIES:Economy,Events,Forum
ATTACH;FMTTYPE=image/jpeg:https://slvpost.com/wp-content/uploads/2024/01/Hotel-Paradox.jpg
END:VEVENT
END:VCALENDAR