BEGIN:VCALENDAR
VERSION:2.0
PRODID:-//San Lorenzo Valley Post - ECPv6.15.20//NONSGML v1.0//EN
CALSCALE:GREGORIAN
METHOD:PUBLISH
X-ORIGINAL-URL:https://slvpost.com
X-WR-CALDESC:Events for San Lorenzo Valley Post
REFRESH-INTERVAL;VALUE=DURATION:PT1H
X-Robots-Tag:noindex
X-PUBLISHED-TTL:PT1H
BEGIN:VTIMEZONE
TZID:America/Los_Angeles
BEGIN:DAYLIGHT
TZOFFSETFROM:-0800
TZOFFSETTO:-0700
TZNAME:PDT
DTSTART:20220313T100000
END:DAYLIGHT
BEGIN:STANDARD
TZOFFSETFROM:-0700
TZOFFSETTO:-0800
TZNAME:PST
DTSTART:20221106T090000
END:STANDARD
BEGIN:DAYLIGHT
TZOFFSETFROM:-0800
TZOFFSETTO:-0700
TZNAME:PDT
DTSTART:20230312T100000
END:DAYLIGHT
BEGIN:STANDARD
TZOFFSETFROM:-0700
TZOFFSETTO:-0800
TZNAME:PST
DTSTART:20231105T090000
END:STANDARD
BEGIN:DAYLIGHT
TZOFFSETFROM:-0800
TZOFFSETTO:-0700
TZNAME:PDT
DTSTART:20240310T100000
END:DAYLIGHT
BEGIN:STANDARD
TZOFFSETFROM:-0700
TZOFFSETTO:-0800
TZNAME:PST
DTSTART:20241103T090000
END:STANDARD
END:VTIMEZONE
BEGIN:VEVENT
DTSTART;TZID=America/Los_Angeles:20231202T193000
DTEND;TZID=America/Los_Angeles:20231202T223000
DTSTAMP:20260422T105303
CREATED:20231130T090021Z
LAST-MODIFIED:20231130T090021Z
UID:9683-1701545400-1701556200@slvpost.com
SUMMARY:China Cats Holiday Bash
DESCRIPTION:Ho ho ho!! It’s time for the China Cats’ awesome annual Holiday Bash at the Santa Cruz Veterans Memorial Hall on Saturday\, December 2\, 2023 from 7:30 to 10:30 pm! \nTickets: Advance $20 | Door $25\nhttps://bit.ly/ChinaCatsHolidayBash \nThe China Cats are the Bay area’s premiere Grateful Dead Tribute band\, performing with the same lineup of players for more than 10 years. They competently play over 200 songs the Grateful Dead performed during their career and have a large mobile fan base. The China Cats have headlined at the Redwood Mountain Faire (Santa Cruz\, CA)\, performed at the Skull and Roses Festival (Ventura\, CA)\, Enchanted Forest Festival \, Grateful Dead Archives (UCSC Santa Cruz) Hog Farm picnic\, as well as many popular venues such as Terrapin Crossroads (san Rafael)\, Sweetwater Music Hall (Mill Valley) The Catalyst (Santa Cruz)\, Swabbie’s (Sacramento) Crystal Bay Casino (Lake Tahoe) Club Fox (Redwood City) The Ashkenaz (Berkeley) and many others. \nHere’s what the press has to say: \n“What makes these cats different? For starters\, they seem to have more than the usual allotted nine lives. This improvisational partnership between the same five members has been delighting ‘deadicated’ dancers and toe-tappers alike for over a decade. Matt Hartle shreds on lead guitar\, adding soulful vocals that conjure the lofty\, lilting\, bone-tingling notes of the late\, great Jerry Garcia. Mike Owens artfully beats a primal drum\, forming the foundation upon which towers of music can be built. Roger Sideman holds down a steady driving bass line with the determination of someone totally committed to the music. Scott Cooper keeps time and everybody spinning with his rhythm guitar and vocals. Steven Sofranko embellishes all the other instrumentation with his improvisational and whimsical prowess on the keys. It’s never just another show\, it’s a pulsating\, undulating\, melodic\, dramatic\, ecstatic\, jubilee!” – San Lorenzo Valley Post\, Santa Cruz Mountains \n“One of the premier tribute bands in Northern California. The group has spent years infusing the classic sensibilities of the Dead’s catalog with their own flair and energy” – Good Times\, Santa Cruz\n“The China Cats aren’t a cover band\,” says Nicholas Meriwether\, archivist of the Grateful Dead collection at UC Santa Cruz. “They approach the Dead’s work with the same kind of reverence and sophistication that the Dead themselves showed in their own forays into American roots music. “When you listen to the Cats\,” Meriweather adds\, “old favorites take on new lives\, revealing facets that will delight and amaze even jaded listeners. These guys aren’t copycats — their sets demonstrate how the Dead’s music now is a part of the great American songbook\, alongside the giants who first inspired the Dead.” \nArtist sights and sounds:\nwww.thechinacats.com\nFB @thechinacats
URL:https://slvpost.com/event/china-cats-holiday-bash/
LOCATION:Santa Cruz Veterans Memorial Building\, 846 Front Street\, Santa Cruz\, CA\, 95060\, United States
CATEGORIES:Concert,Dance,Events
ATTACH;FMTTYPE=image/jpeg:https://slvpost.com/wp-content/uploads/2023/11/398037081_10232244309714935_2490042245418000725_n.jpg
ORGANIZER;CN="Mountain Music Productions":MAILTO:mountainmusicp1@gmail.com
END:VEVENT
BEGIN:VEVENT
DTSTART;TZID=America/Los_Angeles:20231208T200000
DTEND;TZID=America/Los_Angeles:20231208T230000
DTSTAMP:20260422T105303
CREATED:20231207T052946Z
LAST-MODIFIED:20231207T052946Z
UID:9782-1702065600-1702076400@slvpost.com
SUMMARY:The Stinkfoot Orchestra Tribute to Frank Zappa
DESCRIPTION:The Stinkfoot Orchestra is a 14 piece tribute to Frank Zappa\, the legendary musician and composer. Join us for an unforgettable evening of Zappa’s iconic music performed live by this talented ensemble. Get ready to groove\, laugh\, and be blown away by their incredible musicianship! \nThe event will be held at the Veterans Memorial Building\, a fantastic venue that provides the perfect setting for this one-of-a-kind tribute. Come and experience the energy and passion of The Stinkfoot Orchestra as they bring Zappa’s music to life on stage. \nTickets:\nAdvance | $25\nDoor | $30\nhttps://www.eventbrite.com/e/the-stinkfoot-orchestra-a-14-piece-tribute-to-frank-zappa-tickets-741152716727 \nDon’t miss out on this incredible opportunity to celebrate the genius of Frank Zappa with fellow fans. Grab your tickets now and get ready to be transported into the world of Zappa’s unique and groundbreaking sound!
URL:https://slvpost.com/event/the-stinkfoot-orchestra-tribute-to-frank-zappa/
LOCATION:Santa Cruz Veterans Memorial Building\, 846 Front Street\, Santa Cruz\, CA\, 95060\, United States
CATEGORIES:Events,Music & Concerts
ATTACH;FMTTYPE=image/png:https://slvpost.com/wp-content/uploads/2023/12/SFO_1080x1080_12-8-23.png
ORGANIZER;CN="Mountain Music Productions":MAILTO:mountainmusicp1@gmail.com
END:VEVENT
BEGIN:VEVENT
DTSTART;TZID=America/Los_Angeles:20231209T130000
DTEND;TZID=America/Los_Angeles:20231209T150000
DTSTAMP:20260422T105303
CREATED:20231120T020343Z
LAST-MODIFIED:20231120T020343Z
UID:9636-1702126800-1702134000@slvpost.com
SUMMARY:Santa Cruz Ballet Theatre’s The Nutcracker
DESCRIPTION:Santa Cruz Ballet Theatre’s The Nutcracker a feast of the season. \nSaturday\, December 9 & Sunday\, December 10 | 1 pm & 4:30 pm. Santa Cruz Civic Auditorium \n307 Church Street\, Santa Cruz. Santa Cruz Ballet Theatre presents its 21st annual production of “The Nutcracker” at the Santa Cruz Civic Auditorium with live orchestra! Music Director Pamela Martin conducts 52 professional musicians to bring the beloved Tchaikovsky score to life. The production is a treat which will delight young and old alike. Tickets: santacruztickets.com
URL:https://slvpost.com/event/santa-cruz-ballet-theatres-the-nutcracker/
LOCATION:Santa Cruz Civic Auditorium\, 307 Church Street\, Santa Cruz\, CA\, 95060\, United States
CATEGORIES:Ballet,Events,Holiday Celebration
ATTACH;FMTTYPE=image/jpeg:https://slvpost.com/wp-content/uploads/2023/11/399146753_18318227848128659_386881283277628942_n.jpg
END:VEVENT
BEGIN:VEVENT
DTSTART;TZID=America/Los_Angeles:20231216T130000
DTEND;TZID=America/Los_Angeles:20231216T150000
DTSTAMP:20260422T105303
CREATED:20231120T014303Z
LAST-MODIFIED:20231120T014425Z
UID:9632-1702731600-1702738800@slvpost.com
SUMMARY:Crocker Theater Annual Nutcracker Ballet
DESCRIPTION:Santa Cruz City Ballet annual Nutcracker Ballet charms in its 15th year. \nSaturday\, December 16 and Sunday\, December 17 | 1 pm & 4:30 pm. Crocker Theater\, 6500 Lower Perimeter Road\, Aptos. “As the leaves deepen into beautiful fall colors\, it is a true sign that winter is around the corner and with it…magic that only the Nutcracker Ballet can bring!” Celebrating 15 years in production\, 12 years at Cabrillo College Crocker Theater\, this full length Santa Cruz City Ballet Nutcracker features innovative choreography\, stunning dancers\, beautiful sets\, and brilliant costumes. Set to the renowned music of Tchaikovsky’s original score. Tickets: nutcrackersantacruz.com
URL:https://slvpost.com/event/crocker-theater-annual-nutcracker-ballet/
LOCATION:Crocker Theater\, 6500 Lower Perimeter Road\, Aptos\, 95003
CATEGORIES:Ballet,Events,Holiday Celebration
ATTACH;FMTTYPE=image/jpeg:https://slvpost.com/wp-content/uploads/2023/11/400485112_943104510943854_6047473021835353350_n.jpg
END:VEVENT
BEGIN:VEVENT
DTSTART;TZID=America/Los_Angeles:20231221T190000
DTEND;TZID=America/Los_Angeles:20231221T220000
DTSTAMP:20260422T105303
CREATED:20231219T085343Z
LAST-MODIFIED:20231219T085420Z
UID:9899-1703185200-1703196000@slvpost.com
SUMMARY:Santa Cruz Traditional Irish Session at Rosie McCann's
DESCRIPTION:A traditional Irish session every Third Thursday at Rosie McCann’s in downtown Santa Cruz from 7:00 to 10:00 pm.\n\nAll ages\, full bar and dinner menu! Suitable for the experienced Celtic style musician and for anyone who enjoys listening to local acoustic folk music.\n\nJulie Horner and David Chadwick lead the tunes. Co-hosted by Irish Culture Bay Area and the Celtic Society of the Monterey Bay.
URL:https://slvpost.com/event/santa-cruz-traditional-irish-session-at-rosie-mccanns/
LOCATION:Rosie McCann’s Restauran and Pub\, 1220 Pacific Ave\, Santa Cruz\, CA\, 95060
CATEGORIES:Events,Music & Concerts
ATTACH;FMTTYPE=image/png:https://slvpost.com/wp-content/uploads/2023/12/Irish-Music.png
END:VEVENT
END:VCALENDAR