BEGIN:VCALENDAR
VERSION:2.0
PRODID:-//San Lorenzo Valley Post - ECPv6.15.20//NONSGML v1.0//EN
CALSCALE:GREGORIAN
METHOD:PUBLISH
X-ORIGINAL-URL:https://slvpost.com
X-WR-CALDESC:Events for San Lorenzo Valley Post
REFRESH-INTERVAL;VALUE=DURATION:PT1H
X-Robots-Tag:noindex
X-PUBLISHED-TTL:PT1H
BEGIN:VTIMEZONE
TZID:America/Los_Angeles
BEGIN:DAYLIGHT
TZOFFSETFROM:-0800
TZOFFSETTO:-0700
TZNAME:PDT
DTSTART:20230312T100000
END:DAYLIGHT
BEGIN:STANDARD
TZOFFSETFROM:-0700
TZOFFSETTO:-0800
TZNAME:PST
DTSTART:20231105T090000
END:STANDARD
BEGIN:DAYLIGHT
TZOFFSETFROM:-0800
TZOFFSETTO:-0700
TZNAME:PDT
DTSTART:20240310T100000
END:DAYLIGHT
BEGIN:STANDARD
TZOFFSETFROM:-0700
TZOFFSETTO:-0800
TZNAME:PST
DTSTART:20241103T090000
END:STANDARD
BEGIN:DAYLIGHT
TZOFFSETFROM:-0800
TZOFFSETTO:-0700
TZNAME:PDT
DTSTART:20250309T100000
END:DAYLIGHT
BEGIN:STANDARD
TZOFFSETFROM:-0700
TZOFFSETTO:-0800
TZNAME:PST
DTSTART:20251102T090000
END:STANDARD
END:VTIMEZONE
BEGIN:VEVENT
DTSTART;TZID=America/Los_Angeles:20240830T193000
DTEND;TZID=America/Los_Angeles:20240830T223000
DTSTAMP:20260422T083058
CREATED:20240611T235517Z
LAST-MODIFIED:20240611T235517Z
UID:11414-1725046200-1725057000@slvpost.com
SUMMARY:Tiger's Tail Friday Night Summer Series: The Music of Jerry Garcia
DESCRIPTION:The Santa Cruz County Veterans Memorial Building hosts a new Friday night summer series outdoors in the “Mystic Courtyard” featuring Jerry Garcia tribute band Tiger’s Tale.\n\nFriday\, August 30 | 7:30 pmTickets: mountainmusicproductions.com$10 plus $1 fee adv. | $15 at the door\n\nBased in Santa Cruz\, Tiger’s Tale performs in the loving spirit of the Jerry Garcia Band’s later years presenting a wide range of well-known Motown\, reggae\, R&B\, rock and soul covers from the “the Jerry Band” songbook.\n\nJerry played his “Tiger” guitar with the Jerry Garcia Band from 1979 onward. It was his guitar of choice throughout the ’80s and was the last guitar he played before he died in 1995. What tales would Tiger tell if it were played again? Come hear the Tiger’s Tale band to find out!\n\nTiger’s Tale is:\n\nJim Lewin – guitar (Edge of the West)Josh Salesin – keyboards (Crate Diggers)Sebastian Hegenbart – bass (Way Out West)Michael Owens – drums (China Cats)Diana Zitmanis – backing vocalAmy Berry – backing vocal (June 14)Michele Whizin – backing vocal (July 5\, August 30)\n\nArtist sights and sounds:\n\nWeb: https://tigerstale.netFacebook: @tigerstalebandYoutube: https://www.youtube.com/@TigersTale\n\n“Too much of a good thing is just about right.” — Jerry Garcia
URL:https://slvpost.com/event/tigers-tail-friday-night-summer-series-the-music-of-jerry-garcia/
LOCATION:Santa Cruz Veterans Memorial Building\, 846 Front Street\, Santa Cruz\, CA\, 95060\, United States
CATEGORIES:Entertainment,Events
ATTACH;FMTTYPE=image/jpeg:https://slvpost.com/wp-content/uploads/2024/06/GGSS-poster-900-3.jpg
ORGANIZER;CN="Mountain Music Productions":MAILTO:mountainmusicp1@gmail.com
END:VEVENT
END:VCALENDAR